BEGIN:VCALENDAR
VERSION:2.0
PRODID:-//BJV - ECPv6.0.8//NONSGML v1.0//EN
CALSCALE:GREGORIAN
METHOD:PUBLISH
X-ORIGINAL-URL:https://bremer-judo-verband.de
X-WR-CALDESC:Veranstaltungen für BJV
REFRESH-INTERVAL;VALUE=DURATION:PT1H
X-Robots-Tag:noindex
X-PUBLISHED-TTL:PT1H
BEGIN:VTIMEZONE
TZID:Europe/Berlin
BEGIN:DAYLIGHT
TZOFFSETFROM:+0100
TZOFFSETTO:+0200
TZNAME:CEST
DTSTART:20240331T010000
END:DAYLIGHT
BEGIN:STANDARD
TZOFFSETFROM:+0200
TZOFFSETTO:+0100
TZNAME:CET
DTSTART:20241027T010000
END:STANDARD
END:VTIMEZONE
BEGIN:VEVENT
DTSTART;TZID=Europe/Berlin:20241221T180000
DTEND;TZID=Europe/Berlin:20241221T180000
DTSTAMP:20260420T132736
CREATED:20240508T144608Z
LAST-MODIFIED:20240508T144608Z
UID:3924-1734804000-1734804000@bremer-judo-verband.de
SUMMARY:m Kadertraing U15 / U18 (letzter Jahrgang U 12)
DESCRIPTION:Freitags von 18.00 – 20.00 Uhr\nBremen 1860 e.V.\, Halle 8\, Baumschulenweg 6\, 28213 Bremen
URL:https://bremer-judo-verband.de/event/m-kadertraing-u15-u18-letzter-jahrgang-u-12-7/
LOCATION:Bremen 1860 e.V.\, Baumschulenweg 6\, Halle 8\, Bremen\, Bremen\, 28213\, Deutschland
CATEGORIES:Kadertermine
ATTACH;FMTTYPE=image/png:https://bremer-judo-verband.de/wp-content/uploads/2017/02/Logo_KADER_Sticker_end_pfade-e1486568677151.png
END:VEVENT
END:VCALENDAR